BEGIN:VCALENDAR
VERSION:2.0
PRODID:-//Devpost\, Inc.//Aurora Global Hackathon//EN
CALSCALE:GREGORIAN
BEGIN:VTIMEZONE
TZID:Asia/Kolkata
BEGIN:STANDARD
DTSTART:19451014T230000
TZOFFSETFROM:+0630
TZOFFSETTO:+0530
TZNAME:IST
END:STANDARD
END:VTIMEZONE
BEGIN:VEVENT
DTSTAMP:20260423T093412Z
UID:11b6f3b4-c46a-4e37-bcf4-4a7646edc8ce
DTSTART;TZID=Asia/Kolkata:20260430T233000
DTEND;TZID=Asia/Kolkata:20260430T233000
DESCRIPTION:https://aurora-global-hackathon-grid.devpost.com/
SUMMARY:Aurora Global Hackathon submission deadline
BEGIN:VALARM
ACTION:DISPLAY
TRIGGER:-P7D
SUMMARY:Just 7 left days until the submission deadline!
END:VALARM
END:VEVENT
END:VCALENDAR
